BEGIN:VCALENDAR
VERSION:2.0
PRODID:-//PYVOBJECT//NONSGML Version 0.9.9//EN
X-WR-TIMEZONE:Africa/Johannesburg
BEGIN:VTIMEZONE
TZID:Africa/Johannesburg
BEGIN:STANDARD
DTSTART:20000101T000000
RRULE:FREQ=YEARLY;BYMONTH=1
TZNAME:SAST
TZOFFSETFROM:+0200
TZOFFSETTO:+0200
END:STANDARD
END:VTIMEZONE
BEGIN:VEVENT
UID:20260423T115408Z - 99992@eos-content
DTSTART;TZID=Africa/Johannesburg:20260423T100000
DTEND;TZID=Africa/Johannesburg:20260423T150000
ATTENDEE:MAILTO:salma.kinghorn@century21.co.za
DESCRIPTION:https://www.century21.co.za/results/residential/to-let/midrand/
 steyn-city/apartment/3148441/\n\nVIEW BY APPOINTMENT ONLY\n\nSalma Kinghor
 n (076 886 4007)
DTSTAMP:20260423T115408Z
LOCATION:Steyn City\, Midrand
SUMMARY:Century 21 South Africa Show Day - FRW-RR01508
END:VEVENT
END:VCALENDAR
