BEGIN:VCALENDAR
VERSION:2.0
PRODID:-//PYVOBJECT//NONSGML Version 0.9.9//EN
X-WR-TIMEZONE:Africa/Johannesburg
BEGIN:VTIMEZONE
TZID:Africa/Johannesburg
BEGIN:STANDARD
DTSTART:20000101T000000
RRULE:FREQ=YEARLY;BYMONTH=1
TZNAME:SAST
TZOFFSETFROM:+0200
TZOFFSETTO:+0200
END:STANDARD
END:VTIMEZONE
BEGIN:VEVENT
UID:20260423T084242Z - 69297@eos-content
DTSTART;TZID=Africa/Johannesburg:20260424T140000
DTEND;TZID=Africa/Johannesburg:20260424T150000
ATTENDEE:MAILTO:nikita.wright@century21.co.za
DESCRIPTION:https://www.century21.co.za/results/residential/to-let/cape-tow
 n/woodstock/apartment/3147029/402-ravenscraig-mews-6-ravenscraig-road/\n\n
 6 Ravenscraig Road\, Woodstock. Commercial block so call me at the entranc
 e.\n\nNikita Wright (074 133 1979)
DTSTAMP:20260423T084242Z
LOCATION:402 Ravenscraig Mews\, 6 Ravenscraig Road\, Woodstock\, Cape Town
SUMMARY:Century 21 South Africa Show Day - CBC-RR00054
END:VEVENT
END:VCALENDAR
