BEGIN:VCALENDAR
VERSION:2.0
PRODID:-//PYVOBJECT//NONSGML Version 0.9.9//EN
X-WR-TIMEZONE:Africa/Johannesburg
BEGIN:VTIMEZONE
TZID:Africa/Johannesburg
BEGIN:STANDARD
DTSTART:20000101T000000
RRULE:FREQ=YEARLY;BYMONTH=1
TZNAME:SAST
TZOFFSETFROM:+0200
TZOFFSETTO:+0200
END:STANDARD
END:VTIMEZONE
BEGIN:VEVENT
UID:20260423T132817Z - 87143@eos-content
DTSTART;TZID=Africa/Johannesburg:20260426T143000
DTEND;TZID=Africa/Johannesburg:20260426T170000
ATTENDEE:MAILTO:donay.mildenhall@century21.co.za
DESCRIPTION:https://www.century21.co.za/results/residential/for-sale/east-l
 ondon/gonubie/townhouse/3103660/\n\nFollow the C21 Pointers\n\nDonay Milde
 nhall (083 282 1856)
DTSTAMP:20260423T132817Z
LOCATION:Gonubie\, East London
SUMMARY:Century 21 South Africa Show Day - ELO-RS01869
END:VEVENT
END:VCALENDAR
