BEGIN:VCALENDAR
VERSION:2.0
PRODID:-//PYVOBJECT//NONSGML Version 0.9.9//EN
X-WR-TIMEZONE:Africa/Johannesburg
BEGIN:VTIMEZONE
TZID:Africa/Johannesburg
BEGIN:STANDARD
DTSTART:20000101T000000
RRULE:FREQ=YEARLY;BYMONTH=1
TZNAME:SAST
TZOFFSETFROM:+0200
TZOFFSETTO:+0200
END:STANDARD
END:VTIMEZONE
BEGIN:VEVENT
UID:20260424T130239Z - 78906@eos-content
DTSTART;TZID=Africa/Johannesburg:20260426T140000
DTEND;TZID=Africa/Johannesburg:20260426T150000
ATTENDEE:MAILTO:phumelele.nyamazunzu@century21.co.za
DESCRIPTION:https://www.century21.co.za/results/residential/to-let/sandton/
 fourways/apartment/3055953/\n\nVIEW BY APPOINTMENT ONLY\n\nPhumelele Nyama
 zunzu (081 311 8909)
DTSTAMP:20260424T130239Z
LOCATION:Fourways\, Sandton
SUMMARY:Century 21 South Africa Show Day - FRW-RR01454
END:VEVENT
END:VCALENDAR
