BEGIN:VCALENDAR
VERSION:2.0
PRODID:-//PYVOBJECT//NONSGML Version 0.9.9//EN
X-WR-TIMEZONE:Africa/Johannesburg
BEGIN:VTIMEZONE
TZID:Africa/Johannesburg
BEGIN:STANDARD
DTSTART:20000101T000000
RRULE:FREQ=YEARLY;BYMONTH=1
TZNAME:SAST
TZOFFSETFROM:+0200
TZOFFSETTO:+0200
END:STANDARD
END:VTIMEZONE
BEGIN:VEVENT
UID:20260423T125133Z - 20159@eos-content
DTSTART;TZID=Africa/Johannesburg:20260426T140000
DTEND;TZID=Africa/Johannesburg:20260426T160000
ATTENDEE:MAILTO:lalian.fourie@century21.co.za
ATTENDEE:MAILTO:glenda.musgrove@century21.co.za
ATTENDEE:MAILTO:jenna.chartie@century21.co.za
DESCRIPTION:https://www.century21.co.za/results/residential/for-sale/midran
 d/helderfontein-estate/vacant-land/2767642/\n\nVIEW BY APPOINTMENT ONLY\n\
 nLalian Fourie (082 654 6539)\n\nGlenda Musgrove (072 186 0600)\n\nJenna C
 hartie (066 269 0887)
DTSTAMP:20260423T125133Z
LOCATION:Helderfontein Estate\, Midrand
SUMMARY:Century 21 South Africa Show Day - FRW-RS01060
END:VEVENT
END:VCALENDAR
