BEGIN:VCALENDAR
VERSION:2.0
PRODID:-//PYVOBJECT//NONSGML Version 0.9.9//EN
X-WR-TIMEZONE:Africa/Johannesburg
BEGIN:VTIMEZONE
TZID:Africa/Johannesburg
BEGIN:STANDARD
DTSTART:20000101T000000
RRULE:FREQ=YEARLY;BYMONTH=1
TZNAME:SAST
TZOFFSETFROM:+0200
TZOFFSETTO:+0200
END:STANDARD
END:VTIMEZONE
BEGIN:VEVENT
UID:20260421T235713Z - 76402@eos-content
DTSTART;TZID=Africa/Johannesburg:20260422T140000
DTEND;TZID=Africa/Johannesburg:20260422T180000
ATTENDEE:MAILTO:gail.chihanga@century21.co.za
DESCRIPTION:https://www.century21.co.za/results/residential/for-sale/potche
 fstroom/potchefstroom-central/apartment/2744482/\n\nCall or wats up to boo
 k for viewing on this day!!!\n\nGail Chihanga (062 511 5223)
DTSTAMP:20260421T235713Z
LOCATION:Potchefstroom Central\, Potchefstroom
SUMMARY:Century 21 South Africa Show Day - POT-RS02058
END:VEVENT
END:VCALENDAR
